BEGIN:VCALENDAR
PRODID:ESOP Association Events
VERSION:2.0
CALSCALE:GREGORIAN
BEGIN:VEVENT
UID:https://my.employeeownershipfoundation.org/s/community-event?id=a1YQo00
 0006d0Sv
DTSTAMP:20260423T192901Z
SUMMARY:ESOP Employee Accelerator - 2026 Harrisonburg\, VA
DESCRIPTION:ESOP Employee Accelerator 2026 - Harrisonburg\, VA
URL:https://my.employeeownershipfoundation.org/s/community-event?id=a1YQo00
 0006d0Sv
DTSTART:20260512T120000Z
DTEND:20260512T203000Z
END:VEVENT
END:VCALENDAR
